BEGIN:VCALENDAR
VERSION:2.0
PRODID:-//Site de la commune de La Rouvière - ECPv4.9.6//NONSGML v1.0//EN
CALSCALE:GREGORIAN
METHOD:PUBLISH
X-WR-CALNAME:Site de la commune de La Rouvière
X-ORIGINAL-URL:https://www.mairielarouviere.fr
X-WR-CALDESC:Évènements pour Site de la commune de La Rouvière
BEGIN:VTIMEZONE
TZID:"Europe/Paris"
BEGIN:DAYLIGHT
TZOFFSETFROM:+0100
TZOFFSETTO:+0200
TZNAME:CEST
DTSTART:20250330T010000
END:DAYLIGHT
BEGIN:STANDARD
TZOFFSETFROM:+0200
TZOFFSETTO:+0100
TZNAME:CET
DTSTART:20251026T010000
END:STANDARD
END:VTIMEZONE
BEGIN:VEVENT
DTSTART;VALUE=DATE:20250813
DTEND;VALUE=DATE:20250823
DTSTAMP:20260423T152523
CREATED:20250814T114836Z
LAST-MODIFIED:20250814T114836Z
UID:6849-1755043200-1755907199@www.mairielarouviere.fr
SUMMARY:FERMETURE MAIRIE du 13 au 22 août
DESCRIPTION: \n
URL:https://www.mairielarouviere.fr/evenement/fermeture-mairie-du-13-au-22-aout/
END:VEVENT
END:VCALENDAR