BEGIN:VCALENDAR
VERSION:2.0
PRODID:-//Site de la commune de La Rouvière - ECPv4.9.6//NONSGML v1.0//EN
CALSCALE:GREGORIAN
METHOD:PUBLISH
X-WR-CALNAME:Site de la commune de La Rouvière
X-ORIGINAL-URL:https://www.mairielarouviere.fr
X-WR-CALDESC:Évènements pour Site de la commune de La Rouvière
BEGIN:VTIMEZONE
TZID:"Europe/Paris"
BEGIN:DAYLIGHT
TZOFFSETFROM:+0100
TZOFFSETTO:+0200
TZNAME:CEST
DTSTART:20260329T010000
END:DAYLIGHT
BEGIN:STANDARD
TZOFFSETFROM:+0200
TZOFFSETTO:+0100
TZNAME:CET
DTSTART:20261025T010000
END:STANDARD
END:VTIMEZONE
BEGIN:VEVENT
DTSTART;VALUE=DATE:20260429
DTEND;VALUE=DATE:20260430
DTSTAMP:20260422T125232
CREATED:20260421T193032Z
LAST-MODIFIED:20260421T193108Z
UID:7511-1777420800-1777507199@www.mairielarouviere.fr
SUMMARY:Fermeture plateforme de stockage déchets verts- Déchèterie La Rouvière
DESCRIPTION:Information opération de broyage déchets verts – Déchèterie La Rouvière \nNous vous informons qu’une opération de broyage des déchets verts est prévue sur la déchèterie de LA ROUVIERE le  \nmercredi 29 avril 2026 \nPar conséquent\, la plateforme de stockage sera inaccessible et ne sera pas en mesure de recevoir de déchets verts durant la prestation. \n
URL:https://www.mairielarouviere.fr/evenement/fermeture-plateforme-de-stockage-dechets-verts-decheterie-la-rouviere-12/
END:VEVENT
END:VCALENDAR