BEGIN:VCALENDAR
VERSION:2.0
PRODID:-//Site de la commune de La Rouvière - ECPv4.9.6//NONSGML v1.0//EN
CALSCALE:GREGORIAN
METHOD:PUBLISH
X-WR-CALNAME:Site de la commune de La Rouvière
X-ORIGINAL-URL:https://www.mairielarouviere.fr
X-WR-CALDESC:Évènements pour Site de la commune de La Rouvière
BEGIN:VTIMEZONE
TZID:"Europe/Paris"
BEGIN:DAYLIGHT
TZOFFSETFROM:+0100
TZOFFSETTO:+0200
TZNAME:CEST
DTSTART:20250330T010000
END:DAYLIGHT
BEGIN:STANDARD
TZOFFSETFROM:+0200
TZOFFSETTO:+0100
TZNAME:CET
DTSTART:20251026T010000
END:STANDARD
END:VTIMEZONE
BEGIN:VEVENT
DTSTART;TZID="Europe/Paris":20250221T180000
DTEND;TZID="Europe/Paris":20250223T230000
DTSTAMP:20260425T004846
CREATED:20250219T142139Z
LAST-MODIFIED:20250219T142139Z
UID:6399-1740160800-1740351600@www.mairielarouviere.fr
SUMMARY:Festival du film taurin et camarguais 2025
DESCRIPTION: \n
URL:https://www.mairielarouviere.fr/evenement/festival-du-film-taurin-et-camarguais-2025/
END:VEVENT
END:VCALENDAR