BEGIN:VCALENDAR
VERSION:2.0
PRODID:-//Site de la commune de La Rouvière - ECPv4.9.6//NONSGML v1.0//EN
CALSCALE:GREGORIAN
METHOD:PUBLISH
X-WR-CALNAME:Site de la commune de La Rouvière
X-ORIGINAL-URL:https://www.mairielarouviere.fr
X-WR-CALDESC:Évènements pour Site de la commune de La Rouvière
BEGIN:VTIMEZONE
TZID:"Europe/Paris"
BEGIN:DAYLIGHT
TZOFFSETFROM:+0100
TZOFFSETTO:+0200
TZNAME:CEST
DTSTART:20210328T010000
END:DAYLIGHT
BEGIN:STANDARD
TZOFFSETFROM:+0200
TZOFFSETTO:+0100
TZNAME:CET
DTSTART:20211031T010000
END:STANDARD
END:VTIMEZONE
BEGIN:VEVENT
DTSTART;TZID="Europe/Paris":20210513T050000
DTEND;TZID="Europe/Paris":20210513T080000
DTSTAMP:20260422T145747
CREATED:20210411T174703Z
LAST-MODIFIED:20210411T174703Z
UID:3460-1620882000-1620892800@www.mairielarouviere.fr
SUMMARY:Info collecte des déchets  jours fériés de mai 2021
DESCRIPTION:\nSamedi 1er mai et samedi 8 mai : la collecte des ordures ménagères résiduelles est annulée et non reportée. La prochaine collecte des OMR (bacs et sacs noirs) aura lieu le jour habituel suivant le jour férié.\n\n  \n\nJeudi 13 mai 2021 : la collecte sélective est maintenue dans les conditions habituelles.\n\n  \n
URL:https://www.mairielarouviere.fr/evenement/info-collecte-des-dechets-jours-feries-de-mai-2021-3/
END:VEVENT
END:VCALENDAR