BEGIN:VCALENDAR
VERSION:2.0
PRODID:-//Site de la commune de La Rouvière - ECPv4.9.6//NONSGML v1.0//EN
CALSCALE:GREGORIAN
METHOD:PUBLISH
X-WR-CALNAME:Site de la commune de La Rouvière
X-ORIGINAL-URL:https://www.mairielarouviere.fr
X-WR-CALDESC:Évènements pour Site de la commune de La Rouvière
BEGIN:VTIMEZONE
TZID:"Europe/Paris"
BEGIN:DAYLIGHT
TZOFFSETFROM:+0100
TZOFFSETTO:+0200
TZNAME:CEST
DTSTART:20240331T010000
END:DAYLIGHT
BEGIN:STANDARD
TZOFFSETFROM:+0200
TZOFFSETTO:+0100
TZNAME:CET
DTSTART:20241027T010000
END:STANDARD
END:VTIMEZONE
BEGIN:VEVENT
DTSTART;TZID="Europe/Paris":20240518T120000
DTEND;TZID="Europe/Paris":20240518T140000
DTSTAMP:20260422T201438
CREATED:20240409T082057Z
LAST-MODIFIED:20240409T082357Z
UID:5841-1716033600-1716040800@www.mairielarouviere.fr
SUMMARY:Invitation verre de l'amitié
DESCRIPTION:Suite au street art effectué dans la rue des marchands\, où se trouve notre local la boutique solidaire « LES FRUSQUES DE CAROLE ».  Un moment de partage aura lieu le Samedi 18 Mai 2024 à partir de 12h\, autour du verre de l’amitié. \nVous êtes cordialement invité à participer à ce moment d’échange. \nPour l’équipe de bénévoles\, la référente des FRUSQUES DE CAROLE \nManuela KANOUNI \nEn vous souhaitant cordialement une excellente journée\, \nAssociation Temps Libre  Espace Socio-Culturel Intercommunal \n2\, Avenue de la Gare \n30190 – St Geniès-de-Malgoirès \nTél : 04 66 63 14 36 \nsecretariat@temps-libre.org  //  Site : http://www.temps-libre.org https://www.facebook.com/AssociationTempsLibre/#  \n
URL:https://www.mairielarouviere.fr/evenement/invitation-verre-de-lamitie/
END:VEVENT
END:VCALENDAR