BEGIN:VCALENDAR
VERSION:2.0
PRODID:-//Site de la commune de La Rouvière - ECPv4.9.6//NONSGML v1.0//EN
CALSCALE:GREGORIAN
METHOD:PUBLISH
X-WR-CALNAME:Site de la commune de La Rouvière
X-ORIGINAL-URL:https://www.mairielarouviere.fr
X-WR-CALDESC:Évènements pour Site de la commune de La Rouvière
BEGIN:VTIMEZONE
TZID:"Europe/Paris"
BEGIN:DAYLIGHT
TZOFFSETFROM:+0100
TZOFFSETTO:+0200
TZNAME:CEST
DTSTART:20240331T010000
END:DAYLIGHT
BEGIN:STANDARD
TZOFFSETFROM:+0200
TZOFFSETTO:+0100
TZNAME:CET
DTSTART:20241027T010000
END:STANDARD
END:VTIMEZONE
BEGIN:VEVENT
DTSTART;TZID="Europe/Paris":20241015T090000
DTEND;TZID="Europe/Paris":20241016T170000
DTSTAMP:20260423T104123
CREATED:20241001T084005Z
LAST-MODIFIED:20241001T084005Z
UID:6188-1728982800-1729098000@www.mairielarouviere.fr
SUMMARY:Journées Portes Ouvertes France Services
DESCRIPTION: \n
URL:https://www.mairielarouviere.fr/evenement/journees-portes-ouvertes-france-services/
END:VEVENT
END:VCALENDAR