BEGIN:VCALENDAR
VERSION:2.0
PRODID:-//Site de la commune de La Rouvière - ECPv4.9.6//NONSGML v1.0//EN
CALSCALE:GREGORIAN
METHOD:PUBLISH
X-WR-CALNAME:Site de la commune de La Rouvière
X-ORIGINAL-URL:https://www.mairielarouviere.fr
X-WR-CALDESC:Évènements pour Site de la commune de La Rouvière
BEGIN:VTIMEZONE
TZID:"Europe/Paris"
BEGIN:DAYLIGHT
TZOFFSETFROM:+0100
TZOFFSETTO:+0200
TZNAME:CEST
DTSTART:20200329T010000
END:DAYLIGHT
BEGIN:STANDARD
TZOFFSETFROM:+0200
TZOFFSETTO:+0100
TZNAME:CET
DTSTART:20201025T010000
END:STANDARD
END:VTIMEZONE
BEGIN:VEVENT
DTSTART;TZID="Europe/Paris":20201204T164500
DTEND;TZID="Europe/Paris":20201204T180000
DTSTAMP:20260422T232939
CREATED:20201202T202030Z
LAST-MODIFIED:20201202T202030Z
UID:3279-1607100300-1607104800@www.mairielarouviere.fr
SUMMARY:Livraison des sapins de Noël
DESCRIPTION:Vous pourrez récupérer votre sapin de Noël vendredi 4 décembre\, de 16h45 à 18h sur l’école de Montignargues. \nEn cas d’imprévu\, contactez l’école au 04-66-81-66-92 \nMerci                                                  \n
URL:https://www.mairielarouviere.fr/evenement/livraison-des-sapins-de-noel/
END:VEVENT
END:VCALENDAR