BEGIN:VCALENDAR
VERSION:2.0
PRODID:-//Site de la commune de La Rouvière - ECPv4.9.6//NONSGML v1.0//EN
CALSCALE:GREGORIAN
METHOD:PUBLISH
X-WR-CALNAME:Site de la commune de La Rouvière
X-ORIGINAL-URL:https://www.mairielarouviere.fr
X-WR-CALDESC:Évènements pour Site de la commune de La Rouvière
BEGIN:VTIMEZONE
TZID:"Europe/Paris"
BEGIN:DAYLIGHT
TZOFFSETFROM:+0100
TZOFFSETTO:+0200
TZNAME:CEST
DTSTART:20200329T010000
END:DAYLIGHT
BEGIN:STANDARD
TZOFFSETFROM:+0200
TZOFFSETTO:+0100
TZNAME:CET
DTSTART:20201025T010000
END:STANDARD
END:VTIMEZONE
BEGIN:VEVENT
DTSTART;TZID="Europe/Paris":20200126T150000
DTEND;TZID="Europe/Paris":20200126T180000
DTSTAMP:20260423T182923
CREATED:20200113T152506Z
LAST-MODIFIED:20200113T152701Z
UID:2043-1580050800-1580061600@www.mairielarouviere.fr
SUMMARY:LOTO APE de La Rouvière-Montignargues
DESCRIPTION:Dimanche 26 janvier à 15h00 au Foyer de La Rouvière \n
URL:https://www.mairielarouviere.fr/evenement/loto-ape-de-la-rouviere-montignargues/
END:VEVENT
END:VCALENDAR