BEGIN:VCALENDAR
VERSION:2.0
PRODID:-//Site de la commune de La Rouvière - ECPv4.9.6//NONSGML v1.0//EN
CALSCALE:GREGORIAN
METHOD:PUBLISH
X-WR-CALNAME:Site de la commune de La Rouvière
X-ORIGINAL-URL:https://www.mairielarouviere.fr
X-WR-CALDESC:Évènements pour Site de la commune de La Rouvière
BEGIN:VTIMEZONE
TZID:"Europe/Paris"
BEGIN:DAYLIGHT
TZOFFSETFROM:+0100
TZOFFSETTO:+0200
TZNAME:CEST
DTSTART:20200329T010000
END:DAYLIGHT
BEGIN:STANDARD
TZOFFSETFROM:+0200
TZOFFSETTO:+0100
TZNAME:CET
DTSTART:20201025T010000
END:STANDARD
END:VTIMEZONE
BEGIN:VEVENT
DTSTART;TZID="Europe/Paris":20201206T100000
DTEND;TZID="Europe/Paris":20201206T170000
DTSTAMP:20260423T013355
CREATED:20201203T194542Z
LAST-MODIFIED:20201203T194542Z
UID:3284-1607248800-1607274000@www.mairielarouviere.fr
SUMMARY:Marché de Noël des 5 et 6 décembre 2020 à Saint-Geniès de Malgoirès
DESCRIPTION:Cette année le marché de Noël des 5 et 6 décembre 2020 aura lieu exclusivement en EXTERIEUR devant la Mairie. \nHoraires : de 10h à 17h les deux jours.   \nPort du masque obligatoire\, respect des mesures sanitaires en vigeur\, sens de circulation \nLa Père Noël sera là pour récupérer les lettres…. \nPossibilité d’annulation en cas d’intempéries. \nVous y trouverez \nsalaisons\, fromages\, bière artisanale en bouteille\, miels et produits de la ruche\, confitures\, confiseries de Noël\, fougasse artisanale sucrée\, farine de châtaigne\, liqueurs et tisanes artisanales\, nougats\, pralines\, spiruline\, chutneys\, conserves\, vin\, carthagène\, jus de raisin\, sirop d’érable\, produits alimentaires canadiens et boissons canadiennes\, chocolats\, nougats\, pralines\, biscuits\, pain d’épices\, marrons chauds…. \nvêtements femme\, vêtements enfants 0 à 7 ans\, tricots\, layette\, coussins\, peluches\, maroquinerie\, boules de Noël personnalisés\, mugs\, création couture\, bijoux\, gants\, chaussettes\, bijoux en liège\, broderie machine provençale et tauromachie\, pierres naturelles\, masques\, bonnets\, pulls de noël\, snood\, sacs\, savons saporifiés à froid\, brosses à dents en bambous\, lampes\, décos de noël\, écharpes en douillette et coton\, sacs cabas en simili cuir\, .. \n
URL:https://www.mairielarouviere.fr/evenement/marche-de-noel-des-5-et-6-decembre-2020-a-saint-genies-de-malgoires-2/
END:VEVENT
END:VCALENDAR