BEGIN:VCALENDAR
VERSION:2.0
PRODID:-//Site de la commune de La Rouvière - ECPv4.9.6//NONSGML v1.0//EN
CALSCALE:GREGORIAN
METHOD:PUBLISH
X-WR-CALNAME:Site de la commune de La Rouvière
X-ORIGINAL-URL:https://www.mairielarouviere.fr
X-WR-CALDESC:Évènements pour Site de la commune de La Rouvière
BEGIN:VTIMEZONE
TZID:"Europe/Paris"
BEGIN:DAYLIGHT
TZOFFSETFROM:+0100
TZOFFSETTO:+0200
TZNAME:CEST
DTSTART:20200329T010000
END:DAYLIGHT
BEGIN:STANDARD
TZOFFSETFROM:+0200
TZOFFSETTO:+0100
TZNAME:CET
DTSTART:20201025T010000
END:STANDARD
END:VTIMEZONE
BEGIN:VEVENT
DTSTART;TZID="Europe/Paris":20200722T183000
DTEND;TZID="Europe/Paris":20200722T213000
DTSTAMP:20260423T083116
CREATED:20200715T123733Z
LAST-MODIFIED:20200716T115231Z
UID:2766-1595442600-1595453400@www.mairielarouviere.fr
SUMMARY:Marché du terroir et de l'artisanat La Rouvière
DESCRIPTION: \nDes artisans et producteurs locaux vous proposeront leurs produits à emporter ou à déguster sur place et vous pourrez vous désaltérer  à la buvette tenue par les bénévoles  du comité des fêtes. \nPour les cavaliers en herbe\,  promenades à dos de poneys dans le village. \nVenez passer un moment convivial avec vos enfants\,  des tables et des bancs  seront mis à votre disposition à l’ombre  \nLes conditions de sécurité sanitaire seront assurées\, gel hydroalcoolique à disposition\, les comptoirs\, tables et bancs seront nettoyés régulièrement après utilisation. \n
URL:https://www.mairielarouviere.fr/evenement/marche-du-terroir-et-de-lartisanat/
LOCATION:Foyer socio-culturel La Rouvière\, LA ROUVIERE\, 30190\, France
END:VEVENT
END:VCALENDAR