BEGIN:VCALENDAR
VERSION:2.0
PRODID:-//Site de la commune de La Rouvière - ECPv4.9.6//NONSGML v1.0//EN
CALSCALE:GREGORIAN
METHOD:PUBLISH
X-WR-CALNAME:Site de la commune de La Rouvière
X-ORIGINAL-URL:https://www.mairielarouviere.fr
X-WR-CALDESC:Évènements pour Site de la commune de La Rouvière
BEGIN:VTIMEZONE
TZID:"Europe/Paris"
BEGIN:DAYLIGHT
TZOFFSETFROM:+0100
TZOFFSETTO:+0200
TZNAME:CEST
DTSTART:20250330T010000
END:DAYLIGHT
BEGIN:STANDARD
TZOFFSETFROM:+0200
TZOFFSETTO:+0100
TZNAME:CET
DTSTART:20251026T010000
END:STANDARD
END:VTIMEZONE
BEGIN:VEVENT
DTSTART;TZID="Europe/Paris":20250806T180000
DTEND;TZID="Europe/Paris":20250806T233000
DTSTAMP:20260423T165833
CREATED:20250322T092922Z
LAST-MODIFIED:20250720T192442Z
UID:6486-1754503200-1754523000@www.mairielarouviere.fr
SUMMARY:Marché nocturne du terroir et de l’artisanat
DESCRIPTION:Organisé par l’Association Culture et Loisirs :  nombreux artisans\, restauration salé et sucré\, animation musicale\, le mercredi 6 août à 18h. \n \n
URL:https://www.mairielarouviere.fr/evenement/marche-nocturne-du-terroir-et-de-lartisanat-2/
END:VEVENT
END:VCALENDAR