BEGIN:VCALENDAR
VERSION:2.0
PRODID:-//Site de la commune de La Rouvière - ECPv4.9.6//NONSGML v1.0//EN
CALSCALE:GREGORIAN
METHOD:PUBLISH
X-WR-CALNAME:Site de la commune de La Rouvière
X-ORIGINAL-URL:https://www.mairielarouviere.fr
X-WR-CALDESC:Évènements pour Site de la commune de La Rouvière
BEGIN:VTIMEZONE
TZID:"Europe/Paris"
BEGIN:DAYLIGHT
TZOFFSETFROM:+0100
TZOFFSETTO:+0200
TZNAME:CEST
DTSTART:20240331T010000
END:DAYLIGHT
BEGIN:STANDARD
TZOFFSETFROM:+0200
TZOFFSETTO:+0100
TZNAME:CET
DTSTART:20241027T010000
END:STANDARD
END:VTIMEZONE
BEGIN:VEVENT
DTSTART;TZID="Europe/Paris":20240807T183000
DTEND;TZID="Europe/Paris":20240807T230000
DTSTAMP:20260422T181733
CREATED:20240723T154308Z
LAST-MODIFIED:20240723T154436Z
UID:6051-1723055400-1723071600@www.mairielarouviere.fr
SUMMARY:Marché nocturne du terroir et de l'artisanat
DESCRIPTION: \n
URL:https://www.mairielarouviere.fr/evenement/marche-nocturne-du-terroir-et-de-lartisanat/
END:VEVENT
END:VCALENDAR