BEGIN:VCALENDAR
VERSION:2.0
PRODID:-//Site de la commune de La Rouvière - ECPv4.9.6//NONSGML v1.0//EN
CALSCALE:GREGORIAN
METHOD:PUBLISH
X-WR-CALNAME:Site de la commune de La Rouvière
X-ORIGINAL-URL:https://www.mairielarouviere.fr
X-WR-CALDESC:Évènements pour Site de la commune de La Rouvière
BEGIN:VTIMEZONE
TZID:"Europe/Paris"
BEGIN:DAYLIGHT
TZOFFSETFROM:+0100
TZOFFSETTO:+0200
TZNAME:CEST
DTSTART:20240331T010000
END:DAYLIGHT
BEGIN:STANDARD
TZOFFSETFROM:+0200
TZOFFSETTO:+0100
TZNAME:CET
DTSTART:20241027T010000
END:STANDARD
END:VTIMEZONE
BEGIN:VEVENT
DTSTART;TZID="Europe/Paris":20241006T090000
DTEND;TZID="Europe/Paris":20241006T170000
DTSTAMP:20260423T072326
CREATED:20241001T085247Z
LAST-MODIFIED:20241001T085247Z
UID:6194-1728205200-1728234000@www.mairielarouviere.fr
SUMMARY:Octobre Rose La Calmette
DESCRIPTION: \n
URL:https://www.mairielarouviere.fr/evenement/octobre-rose-la-calmette/
END:VEVENT
END:VCALENDAR