BEGIN:VCALENDAR
VERSION:2.0
PRODID:-//Site de la commune de La Rouvière - ECPv4.9.6//NONSGML v1.0//EN
CALSCALE:GREGORIAN
METHOD:PUBLISH
X-WR-CALNAME:Site de la commune de La Rouvière
X-ORIGINAL-URL:https://www.mairielarouviere.fr
X-WR-CALDESC:Évènements pour Site de la commune de La Rouvière
BEGIN:VTIMEZONE
TZID:"Europe/Paris"
BEGIN:DAYLIGHT
TZOFFSETFROM:+0100
TZOFFSETTO:+0200
TZNAME:CEST
DTSTART:20240331T010000
END:DAYLIGHT
BEGIN:STANDARD
TZOFFSETFROM:+0200
TZOFFSETTO:+0100
TZNAME:CET
DTSTART:20241027T010000
END:STANDARD
END:VTIMEZONE
BEGIN:VEVENT
DTSTART;TZID="Europe/Paris":20240415T140000
DTEND;TZID="Europe/Paris":20240415T153000
DTSTAMP:20260419T223029
CREATED:20240327T143920Z
LAST-MODIFIED:20240327T143920Z
UID:5809-1713189600-1713195000@www.mairielarouviere.fr
SUMMARY:Permanence Mutuelle MUTUALIA
DESCRIPTION: \nDescriptif Mutualia \n
URL:https://www.mairielarouviere.fr/evenement/permanence-mutuelle-mutualia/
END:VEVENT
END:VCALENDAR