BEGIN:VCALENDAR
VERSION:2.0
PRODID:-//Site de la commune de La Rouvière - ECPv4.9.6//NONSGML v1.0//EN
CALSCALE:GREGORIAN
METHOD:PUBLISH
X-WR-CALNAME:Site de la commune de La Rouvière
X-ORIGINAL-URL:https://www.mairielarouviere.fr
X-WR-CALDESC:Évènements pour Site de la commune de La Rouvière
BEGIN:VTIMEZONE
TZID:"Europe/Paris"
BEGIN:DAYLIGHT
TZOFFSETFROM:+0100
TZOFFSETTO:+0200
TZNAME:CEST
DTSTART:20250330T010000
END:DAYLIGHT
BEGIN:STANDARD
TZOFFSETFROM:+0200
TZOFFSETTO:+0100
TZNAME:CET
DTSTART:20251026T010000
END:STANDARD
END:VTIMEZONE
BEGIN:VEVENT
DTSTART;TZID="Europe/Paris":20250923T100000
DTEND;TZID="Europe/Paris":20250923T120000
DTSTAMP:20260420T195419
CREATED:20250921T172656Z
LAST-MODIFIED:20250921T172656Z
UID:6940-1758621600-1758628800@www.mairielarouviere.fr
SUMMARY:Prévention des cancers dans le cadre d'Octobre Rose à St Geniès de Malgoires
DESCRIPTION: \n
URL:https://www.mairielarouviere.fr/evenement/prevention-des-cancers-dans-le-cadre-doctobre-rose-a-st-genies-de-malgoires/
END:VEVENT
END:VCALENDAR