BEGIN:VCALENDAR
VERSION:2.0
PRODID:-//Site de la commune de La Rouvière - ECPv4.9.6//NONSGML v1.0//EN
CALSCALE:GREGORIAN
METHOD:PUBLISH
X-WR-CALNAME:Site de la commune de La Rouvière
X-ORIGINAL-URL:https://www.mairielarouviere.fr
X-WR-CALDESC:Évènements pour Site de la commune de La Rouvière
BEGIN:VTIMEZONE
TZID:"Europe/Paris"
BEGIN:DAYLIGHT
TZOFFSETFROM:+0100
TZOFFSETTO:+0200
TZNAME:CEST
DTSTART:20210328T010000
END:DAYLIGHT
BEGIN:STANDARD
TZOFFSETFROM:+0200
TZOFFSETTO:+0100
TZNAME:CET
DTSTART:20211031T010000
END:STANDARD
END:VTIMEZONE
BEGIN:VEVENT
DTSTART;TZID="Europe/Paris":20210314T103000
DTEND;TZID="Europe/Paris":20210314T123000
DTSTAMP:20260419T153838
CREATED:20210309T151434Z
LAST-MODIFIED:20210309T151527Z
UID:3431-1615717800-1615725000@www.mairielarouviere.fr
SUMMARY:RDV NATURE/ Balade Gourmandises enherbées à Fons
DESCRIPTION:Les salades sauvages offrent une palette de saveurs inégalées ! \nPissenlit\, Pétarel\, Gallinette ou Barbabouc étaient autrefois fréquentes sur les tables de nos grands-parents.\nDurant cette marche\, autant champêtre que gustative\, apprenez à les reconnaître\, à les cueillir et surtout à les déguster en toute sécurité. \nProgramme et modalités d’inscription \n  \n
URL:https://www.mairielarouviere.fr/evenement/rdv-nature-balade-gourmandises-enherbees-a-fons/
END:VEVENT
END:VCALENDAR