BEGIN:VCALENDAR
VERSION:2.0
PRODID:-//Site de la commune de La Rouvière - ECPv4.9.6//NONSGML v1.0//EN
CALSCALE:GREGORIAN
METHOD:PUBLISH
X-WR-CALNAME:Site de la commune de La Rouvière
X-ORIGINAL-URL:https://www.mairielarouviere.fr
X-WR-CALDESC:Évènements pour Site de la commune de La Rouvière
BEGIN:VTIMEZONE
TZID:"Europe/Paris"
BEGIN:DAYLIGHT
TZOFFSETFROM:+0100
TZOFFSETTO:+0200
TZNAME:CEST
DTSTART:20210328T010000
END:DAYLIGHT
BEGIN:STANDARD
TZOFFSETFROM:+0200
TZOFFSETTO:+0100
TZNAME:CET
DTSTART:20211031T010000
END:STANDARD
END:VTIMEZONE
BEGIN:VEVENT
DTSTART;TZID="Europe/Paris":20210522T140000
DTEND;TZID="Europe/Paris":20210522T160000
DTSTAMP:20260422T145910
CREATED:20210309T152637Z
LAST-MODIFIED:20210309T152637Z
UID:3437-1621692000-1621699200@www.mairielarouviere.fr
SUMMARY:RDV NATURE/Balade sur les traces des animaux à Montignargues
DESCRIPTION:N’avez-vous jamais rêvé de pister un animal pour l’observer\, l’admirer tout en silence et respect ? \nSavez-vous différencier une empreinte de renard de celle d’un chien ? Ou bien encore faire la différence entre une empreinte \nde sanglier mâle et femelle ?\nDe façon ludique et pédagogique\, ce stand vous permettra de vous informer sur la reconnaissance et l’observation des empreintes d’animaux. \nProgramme et modalités d’inscription \n
URL:https://www.mairielarouviere.fr/evenement/rdv-nature-balade-sur-les-traces-des-animaux-a-montignargues/
END:VEVENT
END:VCALENDAR