BEGIN:VCALENDAR
VERSION:2.0
PRODID:-//Site de la commune de La Rouvière - ECPv4.9.6//NONSGML v1.0//EN
CALSCALE:GREGORIAN
METHOD:PUBLISH
X-WR-CALNAME:Site de la commune de La Rouvière
X-ORIGINAL-URL:https://www.mairielarouviere.fr
X-WR-CALDESC:Évènements pour Site de la commune de La Rouvière
BEGIN:VTIMEZONE
TZID:"Europe/Paris"
BEGIN:DAYLIGHT
TZOFFSETFROM:+0100
TZOFFSETTO:+0200
TZNAME:CEST
DTSTART:20250330T010000
END:DAYLIGHT
BEGIN:STANDARD
TZOFFSETFROM:+0200
TZOFFSETTO:+0100
TZNAME:CET
DTSTART:20251026T010000
END:STANDARD
END:VTIMEZONE
BEGIN:VEVENT
DTSTART;TZID="Europe/Paris":20250713T190000
DTEND;TZID="Europe/Paris":20250713T233000
DTSTAMP:20260423T120902
CREATED:20250322T092739Z
LAST-MODIFIED:20250622T190401Z
UID:6484-1752433200-1752449400@www.mairielarouviere.fr
SUMMARY:Repas Festif pour la Fête nationale 
DESCRIPTION:Organisé par l’Association Culture et Loisirs : repas\, animation musicale et retraite aux flambeaux pour les enfants\, le dimanche 13 juillet à 19h. Le rendez-vous incontournable de l’été et un beau moment de convivialité. \n \n \n
URL:https://www.mairielarouviere.fr/evenement/repas-festif-pour-la-fete-nationale/
END:VEVENT
END:VCALENDAR