BEGIN:VCALENDAR
VERSION:2.0
PRODID:-//Site de la commune de La Rouvière - ECPv4.9.6//NONSGML v1.0//EN
CALSCALE:GREGORIAN
METHOD:PUBLISH
X-WR-CALNAME:Site de la commune de La Rouvière
X-ORIGINAL-URL:https://www.mairielarouviere.fr
X-WR-CALDESC:Évènements pour Site de la commune de La Rouvière
BEGIN:VTIMEZONE
TZID:"Europe/Paris"
BEGIN:DAYLIGHT
TZOFFSETFROM:+0100
TZOFFSETTO:+0200
TZNAME:CEST
DTSTART:20210328T010000
END:DAYLIGHT
BEGIN:STANDARD
TZOFFSETFROM:+0200
TZOFFSETTO:+0100
TZNAME:CET
DTSTART:20211031T010000
END:STANDARD
END:VTIMEZONE
BEGIN:VEVENT
DTSTART;TZID="Europe/Paris":20211214T190000
DTEND;TZID="Europe/Paris":20211214T210000
DTSTAMP:20260419T204203
CREATED:20211125T182917Z
LAST-MODIFIED:20211209T164725Z
UID:4002-1639508400-1639515600@www.mairielarouviere.fr
SUMMARY:Réunion du Conseil Municipal
DESCRIPTION:Ordre du jour :  \n
URL:https://www.mairielarouviere.fr/evenement/reunion-du-conseil-municipal-3/
LOCATION:Mairie La Rouvière\, 1 rue de la mairie\, La Rouvière\, 30190\, France
END:VEVENT
END:VCALENDAR