BEGIN:VCALENDAR
VERSION:2.0
PRODID:-//Site de la commune de La Rouvière - ECPv4.9.6//NONSGML v1.0//EN
CALSCALE:GREGORIAN
METHOD:PUBLISH
X-WR-CALNAME:Site de la commune de La Rouvière
X-ORIGINAL-URL:https://www.mairielarouviere.fr
X-WR-CALDESC:Évènements pour Site de la commune de La Rouvière
BEGIN:VTIMEZONE
TZID:"Europe/Paris"
BEGIN:DAYLIGHT
TZOFFSETFROM:+0100
TZOFFSETTO:+0200
TZNAME:CEST
DTSTART:20240331T010000
END:DAYLIGHT
BEGIN:STANDARD
TZOFFSETFROM:+0200
TZOFFSETTO:+0100
TZNAME:CET
DTSTART:20241027T010000
END:STANDARD
END:VTIMEZONE
BEGIN:VEVENT
DTSTART;TZID="Europe/Paris":20240413T140000
DTEND;TZID="Europe/Paris":20240413T163000
DTSTAMP:20260419T190258
CREATED:20240322T091526Z
LAST-MODIFIED:20240322T091526Z
UID:5779-1713016800-1713025800@www.mairielarouviere.fr
SUMMARY:Réunion publique d'informations sur le Plan Local d'Urbanisme
DESCRIPTION:  \nLa commune de La Rouvière organise une réunion publique d’informations sur le Plan Local d’Urbanisme (PLU)\, le samedi 13 avril à 14h00 à la mairie de La Rouvière\, 1 rue de la mairie.  \n \n
URL:https://www.mairielarouviere.fr/evenement/reunion-publique-dinformations-sur-le-plan-local-durbanisme-2/
END:VEVENT
END:VCALENDAR