BEGIN:VCALENDAR
VERSION:2.0
PRODID:-//Site de la commune de La Rouvière - ECPv4.9.6//NONSGML v1.0//EN
CALSCALE:GREGORIAN
METHOD:PUBLISH
X-WR-CALNAME:Site de la commune de La Rouvière
X-ORIGINAL-URL:https://www.mairielarouviere.fr
X-WR-CALDESC:Évènements pour Site de la commune de La Rouvière
BEGIN:VTIMEZONE
TZID:"Europe/Paris"
BEGIN:DAYLIGHT
TZOFFSETFROM:+0100
TZOFFSETTO:+0200
TZNAME:CEST
DTSTART:20250330T010000
END:DAYLIGHT
BEGIN:STANDARD
TZOFFSETFROM:+0200
TZOFFSETTO:+0100
TZNAME:CET
DTSTART:20251026T010000
END:STANDARD
END:VTIMEZONE
BEGIN:VEVENT
DTSTART;TZID="Europe/Paris":20250925T100000
DTEND;TZID="Europe/Paris":20250925T120000
DTSTAMP:20260420T175128
CREATED:20250921T173229Z
LAST-MODIFIED:20250921T173430Z
UID:6944-1758794400-1758801600@www.mairielarouviere.fr
SUMMARY:Semaine de l'insuffisance Cardiaque :"Prenez votre cœur en main" à St Geniès de Malgoires
DESCRIPTION: \n  \n \n
URL:https://www.mairielarouviere.fr/evenement/semaine-de-linsuffisance-cardiaque-avec-laction-prenez-votre-coeur-en-main-a-st-genies-de-malgoires/
END:VEVENT
END:VCALENDAR