BEGIN:VCALENDAR
VERSION:2.0
PRODID:-//Site de la commune de La Rouvière - ECPv4.9.6//NONSGML v1.0//EN
CALSCALE:GREGORIAN
METHOD:PUBLISH
X-WR-CALNAME:Site de la commune de La Rouvière
X-ORIGINAL-URL:https://www.mairielarouviere.fr
X-WR-CALDESC:Évènements pour Site de la commune de La Rouvière
BEGIN:VTIMEZONE
TZID:"Europe/Paris"
BEGIN:DAYLIGHT
TZOFFSETFROM:+0100
TZOFFSETTO:+0200
TZNAME:CEST
DTSTART:20250330T010000
END:DAYLIGHT
BEGIN:STANDARD
TZOFFSETFROM:+0200
TZOFFSETTO:+0100
TZNAME:CET
DTSTART:20251026T010000
END:STANDARD
END:VTIMEZONE
BEGIN:VEVENT
DTSTART;TZID="Europe/Paris":20250121T140000
DTEND;TZID="Europe/Paris":20250121T160000
DTSTAMP:20260424T202248
CREATED:20250109T150913Z
LAST-MODIFIED:20250109T150913Z
UID:6347-1737468000-1737475200@www.mairielarouviere.fr
SUMMARY:Service Tango  à Saint Génies de Malgoires
DESCRIPTION:Les services TANGO seront dans les locaux  du  \nSyndicat Mixte Leins Gardonnenque \n4 rue Diderot \n30190 SAINT GENIES DE MALGOIRES \nle 21 janvier de 14h à 16h pour toutes les questions relatives au service et aussi pour faire les cartes senior pour les administrés de plus de 70 ans ! \n  \n  \n  \n  \n
URL:https://www.mairielarouviere.fr/evenement/service-tango-a-saint-genies-de-malgoires/
END:VEVENT
END:VCALENDAR