BEGIN:VCALENDAR
VERSION:2.0
PRODID:-//Site de la commune de La Rouvière - ECPv4.9.6//NONSGML v1.0//EN
CALSCALE:GREGORIAN
METHOD:PUBLISH
X-WR-CALNAME:Site de la commune de La Rouvière
X-ORIGINAL-URL:https://www.mairielarouviere.fr
X-WR-CALDESC:Évènements pour Site de la commune de La Rouvière
BEGIN:VTIMEZONE
TZID:"Europe/Paris"
BEGIN:DAYLIGHT
TZOFFSETFROM:+0100
TZOFFSETTO:+0200
TZNAME:CEST
DTSTART:20250330T010000
END:DAYLIGHT
BEGIN:STANDARD
TZOFFSETFROM:+0200
TZOFFSETTO:+0100
TZNAME:CET
DTSTART:20251026T010000
END:STANDARD
END:VTIMEZONE
BEGIN:VEVENT
DTSTART;TZID="Europe/Paris":20250705T193000
DTEND;TZID="Europe/Paris":20250705T230000
DTSTAMP:20260423T090311
CREATED:20250622T185800Z
LAST-MODIFIED:20250622T185800Z
UID:6670-1751743800-1751756400@www.mairielarouviere.fr
SUMMARY:Soirée Musique\, Vin et Tapas à St Bauzély
DESCRIPTION: \n \n
URL:https://www.mairielarouviere.fr/evenement/soiree-musique-vin-et-tapas-a-st-bauzely/
END:VEVENT
END:VCALENDAR