BEGIN:VCALENDAR
VERSION:2.0
PRODID:-//Site de la commune de La Rouvière - ECPv4.9.6//NONSGML v1.0//EN
CALSCALE:GREGORIAN
METHOD:PUBLISH
X-WR-CALNAME:Site de la commune de La Rouvière
X-ORIGINAL-URL:https://www.mairielarouviere.fr
X-WR-CALDESC:Évènements pour Site de la commune de La Rouvière
BEGIN:VTIMEZONE
TZID:"Europe/Paris"
BEGIN:DAYLIGHT
TZOFFSETFROM:+0100
TZOFFSETTO:+0200
TZNAME:CEST
DTSTART:20230326T010000
END:DAYLIGHT
BEGIN:STANDARD
TZOFFSETFROM:+0200
TZOFFSETTO:+0100
TZNAME:CET
DTSTART:20231029T010000
END:STANDARD
END:VTIMEZONE
BEGIN:VEVENT
DTSTART;TZID="Europe/Paris":20231014T200000
DTEND;TZID="Europe/Paris":20231014T220000
DTSTAMP:20260424T202101
CREATED:20230926T161722Z
LAST-MODIFIED:20230926T161722Z
UID:5379-1697313600-1697320800@www.mairielarouviere.fr
SUMMARY:Soirée repas spectacle Entente bouliste Calmettoise Rouviéroise à La Calmette
DESCRIPTION: \n
URL:https://www.mairielarouviere.fr/evenement/soiree-repas-spectacle-entente-bouliste-calmettoise-rouvieroise-a-la-calmette/
END:VEVENT
END:VCALENDAR