BEGIN:VCALENDAR
VERSION:2.0
PRODID:-//Site de la commune de La Rouvière - ECPv4.9.6//NONSGML v1.0//EN
CALSCALE:GREGORIAN
METHOD:PUBLISH
X-WR-CALNAME:Site de la commune de La Rouvière
X-ORIGINAL-URL:https://www.mairielarouviere.fr
X-WR-CALDESC:Évènements pour Site de la commune de La Rouvière
BEGIN:VTIMEZONE
TZID:"Europe/Paris"
BEGIN:DAYLIGHT
TZOFFSETFROM:+0100
TZOFFSETTO:+0200
TZNAME:CEST
DTSTART:20220327T010000
END:DAYLIGHT
BEGIN:STANDARD
TZOFFSETFROM:+0200
TZOFFSETTO:+0100
TZNAME:CET
DTSTART:20221030T010000
END:STANDARD
END:VTIMEZONE
BEGIN:VEVENT
DTSTART;TZID="Europe/Paris":20220213T081500
DTEND;TZID="Europe/Paris":20220213T180000
DTSTAMP:20260419T140343
CREATED:20220128T200636Z
LAST-MODIFIED:20220128T200636Z
UID:4093-1644740100-1644775200@www.mairielarouviere.fr
SUMMARY:Sortie neige 2022 Association Temps Libre
DESCRIPTION:L’association Temps Libre organise une sortie neige au Mas de la Barque\, le dimanche 13 février 2022. \nUn départ en car est prévu à 8h15 du Pôle Enfance Jeunesse\, à St Geniès-de-Malgoirès. \nLe repas du midi se réalisera sous forme de pique-individuel et le retour est prévu à 18h sur la commune de St Geniès de Malgoirès. \nPour s’inscrire\, vous pouvez contacter la référente famille au 07 83 53 00 02 ou kiliane.grenier@temps-libre.org . \nUne participation financière de 10€/adulte et 5€/enfant (tarif adhérent) sera demandée. \n
URL:https://www.mairielarouviere.fr/evenement/sortie-neige-2022-association-temps-libre/
END:VEVENT
END:VCALENDAR