BEGIN:VCALENDAR
VERSION:2.0
PRODID:-//Site de la commune de La Rouvière - ECPv4.9.6//NONSGML v1.0//EN
CALSCALE:GREGORIAN
METHOD:PUBLISH
X-WR-CALNAME:Site de la commune de La Rouvière
X-ORIGINAL-URL:https://www.mairielarouviere.fr
X-WR-CALDESC:Évènements pour Site de la commune de La Rouvière
BEGIN:VTIMEZONE
TZID:"Europe/Paris"
BEGIN:DAYLIGHT
TZOFFSETFROM:+0100
TZOFFSETTO:+0200
TZNAME:CEST
DTSTART:20200329T010000
END:DAYLIGHT
BEGIN:STANDARD
TZOFFSETFROM:+0200
TZOFFSETTO:+0100
TZNAME:CET
DTSTART:20201025T010000
END:STANDARD
END:VTIMEZONE
BEGIN:VEVENT
DTSTART;TZID="Europe/Paris":20200902T180000
DTEND;TZID="Europe/Paris":20200903T130000
DTSTAMP:20260423T044849
CREATED:20200821T131836Z
LAST-MODIFIED:20200821T131836Z
UID:2936-1599069600-1599138000@www.mairielarouviere.fr
SUMMARY:STATIONNEMENT INTERDIT - PLACE DE LA RÉPUBLIQUE
DESCRIPTION:STATIONNEMENT INTERDIT – PLACE DE LA REPUBLIQUE \nDu mercredi 02 septembre 2020 à 18h00 au jeudi 03 septembre 2020 à 13h00 \nEn vue du nettoyage de la place \n
URL:https://www.mairielarouviere.fr/evenement/stationnement-interdit-place-de-la-republique-2/
END:VEVENT
END:VCALENDAR