BEGIN:VCALENDAR
VERSION:2.0
PRODID:-//Site de la commune de La Rouvière - ECPv4.9.6//NONSGML v1.0//EN
CALSCALE:GREGORIAN
METHOD:PUBLISH
X-WR-CALNAME:Site de la commune de La Rouvière
X-ORIGINAL-URL:https://www.mairielarouviere.fr
X-WR-CALDESC:Évènements pour Site de la commune de La Rouvière
BEGIN:VTIMEZONE
TZID:"Europe/Paris"
BEGIN:DAYLIGHT
TZOFFSETFROM:+0100
TZOFFSETTO:+0200
TZNAME:CEST
DTSTART:20240331T010000
END:DAYLIGHT
BEGIN:STANDARD
TZOFFSETFROM:+0200
TZOFFSETTO:+0100
TZNAME:CET
DTSTART:20241027T010000
END:STANDARD
END:VTIMEZONE
BEGIN:VEVENT
DTSTART;TZID="Europe/Paris":20240308T180000
DTEND;TZID="Europe/Paris":20240308T210000
DTSTAMP:20260423T141237
CREATED:20240229T151236Z
LAST-MODIFIED:20240229T151319Z
UID:5725-1709920800-1709931600@www.mairielarouviere.fr
SUMMARY:Temps Libre et les Femmes : exposition et concert
DESCRIPTION: \nTemps Libre s’investit sur le sujet du rapport Hommes Femmes\, le Conseil d’Administration a décidé de signer la charte du Conseil Départemental du Gard “Ensemble pour une égalité réelle entre les femmes et les hommes”. L’équipe de salariés a décidé de se former à l’égalité filles / Garçons sur le volet de l’éducation (journée commune le 29 mars) puis développer des modules de réflexion\, d’action et d’innovations dans le fonctionnement et les projets. \nDans le cadre des journées internationales des droits des femmes\, nous accueillons une exposition retraçant le parcours d’installation de 12 agricultrices en France et au Pérou. Deux élèves ingénieures de l’INRA de Montpellier\, en partenariat avec l’association “Paroles de Paysans” sont parties à leur rencontre et ont recueilli leur paroles. Cette expo sera visible du 4 au 15 mars\, en journée du lundi au vendredi. Cette exposition se fait dans le cadre de l’accueil de la culture que nous réalisons dans et sur nos murs tout au long de l’année. Le vernissage aura lieu le vendredi 8 mars à partir de 18h00\, il sera animé par le groupe “les TL GIRLS”. Giorgio Cacchi et ses élèves “féminines” ont à cœur de participer à cette journée.  \n
URL:https://www.mairielarouviere.fr/evenement/temps-libre-et-les-femmes/
END:VEVENT
END:VCALENDAR