BEGIN:VCALENDAR
VERSION:2.0
PRODID:-//Site de la commune de La Rouvière - ECPv4.9.6//NONSGML v1.0//EN
CALSCALE:GREGORIAN
METHOD:PUBLISH
X-WR-CALNAME:Site de la commune de La Rouvière
X-ORIGINAL-URL:https://www.mairielarouviere.fr
X-WR-CALDESC:Évènements pour Site de la commune de La Rouvière
BEGIN:VTIMEZONE
TZID:"Europe/Paris"
BEGIN:DAYLIGHT
TZOFFSETFROM:+0100
TZOFFSETTO:+0200
TZNAME:CEST
DTSTART:20250330T010000
END:DAYLIGHT
BEGIN:STANDARD
TZOFFSETFROM:+0200
TZOFFSETTO:+0100
TZNAME:CET
DTSTART:20251026T010000
END:STANDARD
END:VTIMEZONE
BEGIN:VEVENT
DTSTART;TZID="Europe/Paris":20250215T204500
DTEND;TZID="Europe/Paris":20250215T220000
DTSTAMP:20260424T215254
CREATED:20250122T135004Z
LAST-MODIFIED:20250122T135046Z
UID:6357-1739652300-1739656800@www.mairielarouviere.fr
SUMMARY:Théâtre au profit de l'association "LES ROSES DU GARD"
DESCRIPTION:La commission culture de Saint Géniès de Malgoirès organise le 15 février prochain une soirée théâtre au profit de la Maison Rose & Olivier de la Rouvière.\nL’entièreté de la recette de cette soirée sera reversée à cette association. \n  \n \n\nLES ROSES DU GARD\, réenchanter le quotidien des patients touchés par le cancer dans le Gard\, à la Maison Rose et Olivier à La Rouvière\n\n  \n
URL:https://www.mairielarouviere.fr/evenement/theatre-au-profit-de-lassociation-les-roses-du-gard/
END:VEVENT
END:VCALENDAR