BEGIN:VCALENDAR
VERSION:2.0
PRODID:-//Site de la commune de La Rouvière - ECPv4.9.6//NONSGML v1.0//EN
CALSCALE:GREGORIAN
METHOD:PUBLISH
X-WR-CALNAME:Site de la commune de La Rouvière
X-ORIGINAL-URL:https://www.mairielarouviere.fr
X-WR-CALDESC:Évènements pour Site de la commune de La Rouvière
BEGIN:VTIMEZONE
TZID:"Europe/Paris"
BEGIN:DAYLIGHT
TZOFFSETFROM:+0100
TZOFFSETTO:+0200
TZNAME:CEST
DTSTART:20240331T010000
END:DAYLIGHT
BEGIN:STANDARD
TZOFFSETFROM:+0200
TZOFFSETTO:+0100
TZNAME:CET
DTSTART:20241027T010000
END:STANDARD
END:VTIMEZONE
BEGIN:VEVENT
DTSTART;TZID="Europe/Paris":20240425T183000
DTEND;TZID="Europe/Paris":20240425T203000
DTSTAMP:20260420T045055
CREATED:20240409T090403Z
LAST-MODIFIED:20240409T090403Z
UID:5856-1714069800-1714077000@www.mairielarouviere.fr
SUMMARY:Vidéo projection de 2 films du réalisateur Raymond Achilli
DESCRIPTION: \nDossier Presse \n
URL:https://www.mairielarouviere.fr/evenement/video-projection-de-2-films-du-realisateur-raymond-achilli/
END:VEVENT
END:VCALENDAR